BEGIN:VCALENDAR
VERSION:2.0
PRODID:-//Pleasanton Band - ECPv6.15.20//NONSGML v1.0//EN
CALSCALE:GREGORIAN
METHOD:PUBLISH
X-WR-CALNAME:Pleasanton Band
X-ORIGINAL-URL:https://pleasantonband.org
X-WR-CALDESC:Events for Pleasanton Band
REFRESH-INTERVAL;VALUE=DURATION:PT1H
X-Robots-Tag:noindex
X-PUBLISHED-TTL:PT1H
BEGIN:VTIMEZONE
TZID:America/Los_Angeles
BEGIN:DAYLIGHT
TZOFFSETFROM:-0800
TZOFFSETTO:-0700
TZNAME:PDT
DTSTART:20160313T100000
END:DAYLIGHT
BEGIN:STANDARD
TZOFFSETFROM:-0700
TZOFFSETTO:-0800
TZNAME:PST
DTSTART:20161106T090000
END:STANDARD
BEGIN:DAYLIGHT
TZOFFSETFROM:-0800
TZOFFSETTO:-0700
TZNAME:PDT
DTSTART:20170312T100000
END:DAYLIGHT
BEGIN:STANDARD
TZOFFSETFROM:-0700
TZOFFSETTO:-0800
TZNAME:PST
DTSTART:20171105T090000
END:STANDARD
BEGIN:DAYLIGHT
TZOFFSETFROM:-0800
TZOFFSETTO:-0700
TZNAME:PDT
DTSTART:20180311T100000
END:DAYLIGHT
BEGIN:STANDARD
TZOFFSETFROM:-0700
TZOFFSETTO:-0800
TZNAME:PST
DTSTART:20181104T090000
END:STANDARD
BEGIN:DAYLIGHT
TZOFFSETFROM:-0800
TZOFFSETTO:-0700
TZNAME:PDT
DTSTART:20190310T100000
END:DAYLIGHT
BEGIN:STANDARD
TZOFFSETFROM:-0700
TZOFFSETTO:-0800
TZNAME:PST
DTSTART:20191103T090000
END:STANDARD
END:VTIMEZONE
BEGIN:VEVENT
DTSTART;TZID=America/Los_Angeles:20180722T110000
DTEND;TZID=America/Los_Angeles:20180722T123000
DTSTAMP:20260420T230149
CREATED:20150212T225038Z
LAST-MODIFIED:20190417T030727Z
UID:22632-1532257200-1532262600@pleasantonband.org
SUMMARY:Alden Lane Nursery
DESCRIPTION:
URL:https://pleasantonband.org/event/alden-lane-nursery/
LOCATION:Alden Lane Nursery\, 981 Alden Lane\, Livermore\, CA\, 94550\, United States
CATEGORIES:public
END:VEVENT
BEGIN:VEVENT
DTSTART;TZID=America/Los_Angeles:20170824T183000
DTEND;TZID=America/Los_Angeles:20170824T183000
DTSTAMP:20260420T230149
CREATED:20150209T053006Z
LAST-MODIFIED:20170628T235905Z
UID:22498-1503599400-1503599400@pleasantonband.org
SUMMARY:Private Concert
DESCRIPTION:This is a private concert – not open to the public
URL:https://pleasantonband.org/event/private-concert-masonic-home-for-adults/
LOCATION:Masonic Home for Adults\, 34400 Mission Boulevard\, Union City\, CA\, 94587\, United States
CATEGORIES:Private Event
END:VEVENT
END:VCALENDAR