BEGIN:VCALENDAR
VERSION:2.0
PRODID:-//Pleasanton Band - ECPv6.15.20//NONSGML v1.0//EN
CALSCALE:GREGORIAN
METHOD:PUBLISH
X-WR-CALNAME:Pleasanton Band
X-ORIGINAL-URL:https://pleasantonband.org
X-WR-CALDESC:Events for Pleasanton Band
REFRESH-INTERVAL;VALUE=DURATION:PT1H
X-Robots-Tag:noindex
X-PUBLISHED-TTL:PT1H
BEGIN:VTIMEZONE
TZID:America/Los_Angeles
BEGIN:DAYLIGHT
TZOFFSETFROM:-0800
TZOFFSETTO:-0700
TZNAME:PDT
DTSTART:20220313T100000
END:DAYLIGHT
BEGIN:STANDARD
TZOFFSETFROM:-0700
TZOFFSETTO:-0800
TZNAME:PST
DTSTART:20221106T090000
END:STANDARD
BEGIN:DAYLIGHT
TZOFFSETFROM:-0800
TZOFFSETTO:-0700
TZNAME:PDT
DTSTART:20230312T100000
END:DAYLIGHT
BEGIN:STANDARD
TZOFFSETFROM:-0700
TZOFFSETTO:-0800
TZNAME:PST
DTSTART:20231105T090000
END:STANDARD
BEGIN:DAYLIGHT
TZOFFSETFROM:-0800
TZOFFSETTO:-0700
TZNAME:PDT
DTSTART:20240310T100000
END:DAYLIGHT
BEGIN:STANDARD
TZOFFSETFROM:-0700
TZOFFSETTO:-0800
TZNAME:PST
DTSTART:20241103T090000
END:STANDARD
END:VTIMEZONE
BEGIN:VEVENT
DTSTART;TZID=America/Los_Angeles:20230416T140000
DTEND;TZID=America/Los_Angeles:20230416T153000
DTSTAMP:20260421T102808
CREATED:20230312T185054Z
LAST-MODIFIED:20230312T185233Z
UID:23223-1681653600-1681659000@pleasantonband.org
SUMMARY:Spring Concert:  "Saxophone Spectacular"\, featuring Ricardo Martinez\, Professor of Saxophone at The University of the Pacific
DESCRIPTION:
URL:https://pleasantonband.org/event/spring-concert-saxophone-spectacular-featuring-ricardo-martinez-professor-of-saxophone-at-the-university-of-the-pacific/
LOCATION:Firehouse\, 4444 Railroad Ave\, Pleasanton\, CA\, 94566\, United States
CATEGORIES:public
END:VEVENT
END:VCALENDAR