BEGIN:VCALENDAR
VERSION:2.0
PRODID:-//Pleasanton Band - ECPv6.15.20//NONSGML v1.0//EN
CALSCALE:GREGORIAN
METHOD:PUBLISH
X-ORIGINAL-URL:https://pleasantonband.org
X-WR-CALDESC:Events for Pleasanton Band
REFRESH-INTERVAL;VALUE=DURATION:PT1H
X-Robots-Tag:noindex
X-PUBLISHED-TTL:PT1H
BEGIN:VTIMEZONE
TZID:America/Los_Angeles
BEGIN:DAYLIGHT
TZOFFSETFROM:-0800
TZOFFSETTO:-0700
TZNAME:PDT
DTSTART:20220313T100000
END:DAYLIGHT
BEGIN:STANDARD
TZOFFSETFROM:-0700
TZOFFSETTO:-0800
TZNAME:PST
DTSTART:20221106T090000
END:STANDARD
BEGIN:DAYLIGHT
TZOFFSETFROM:-0800
TZOFFSETTO:-0700
TZNAME:PDT
DTSTART:20230312T100000
END:DAYLIGHT
BEGIN:STANDARD
TZOFFSETFROM:-0700
TZOFFSETTO:-0800
TZNAME:PST
DTSTART:20231105T090000
END:STANDARD
BEGIN:DAYLIGHT
TZOFFSETFROM:-0800
TZOFFSETTO:-0700
TZNAME:PDT
DTSTART:20240310T100000
END:DAYLIGHT
BEGIN:STANDARD
TZOFFSETFROM:-0700
TZOFFSETTO:-0800
TZNAME:PST
DTSTART:20241103T090000
END:STANDARD
END:VTIMEZONE
BEGIN:VEVENT
DTSTART;TZID=America/Los_Angeles:20230506T090000
DTEND;TZID=America/Los_Angeles:20230506T120000
DTSTAMP:20260421T084302
CREATED:20230312T185400Z
LAST-MODIFIED:20230312T185400Z
UID:23226-1683363600-1683374400@pleasantonband.org
SUMMARY:Pleasanton Farmers' Market: Theme:  "Meet The Band Sections"
DESCRIPTION:
URL:https://pleasantonband.org/event/pleasanton-farmers-market-theme-meet-the-band-sections/
LOCATION:Pleasanton Farmer’s Market\, 30 W. Angela St.\, Pleasanton\, CA\, 94566\, United States
END:VEVENT
BEGIN:VEVENT
DTSTART;TZID=America/Los_Angeles:20230529T103000
DTEND;TZID=America/Los_Angeles:20230529T123000
DTSTAMP:20260421T084302
CREATED:20230312T185853Z
LAST-MODIFIED:20230312T185853Z
UID:23228-1685356200-1685363400@pleasantonband.org
SUMMARY:Memorial Day Ceremony
DESCRIPTION:
URL:https://pleasantonband.org/event/memorial-day-ceremony/
LOCATION:Pleasanton Senior Center\, 5353 Sunol Boulevard\, Pleasanton\, CA\, 94566\, United States
CATEGORIES:public
END:VEVENT
END:VCALENDAR