BEGIN:VCALENDAR
VERSION:2.0
PRODID:-//Pleasanton Band - ECPv6.15.20//NONSGML v1.0//EN
CALSCALE:GREGORIAN
METHOD:PUBLISH
X-ORIGINAL-URL:https://pleasantonband.org
X-WR-CALDESC:Events for Pleasanton Band
REFRESH-INTERVAL;VALUE=DURATION:PT1H
X-Robots-Tag:noindex
X-PUBLISHED-TTL:PT1H
BEGIN:VTIMEZONE
TZID:America/Los_Angeles
BEGIN:DAYLIGHT
TZOFFSETFROM:-0800
TZOFFSETTO:-0700
TZNAME:PDT
DTSTART:20230312T100000
END:DAYLIGHT
BEGIN:STANDARD
TZOFFSETFROM:-0700
TZOFFSETTO:-0800
TZNAME:PST
DTSTART:20231105T090000
END:STANDARD
BEGIN:DAYLIGHT
TZOFFSETFROM:-0800
TZOFFSETTO:-0700
TZNAME:PDT
DTSTART:20240310T100000
END:DAYLIGHT
BEGIN:STANDARD
TZOFFSETFROM:-0700
TZOFFSETTO:-0800
TZNAME:PST
DTSTART:20241103T090000
END:STANDARD
BEGIN:DAYLIGHT
TZOFFSETFROM:-0800
TZOFFSETTO:-0700
TZNAME:PDT
DTSTART:20250309T100000
END:DAYLIGHT
BEGIN:STANDARD
TZOFFSETFROM:-0700
TZOFFSETTO:-0800
TZNAME:PST
DTSTART:20251102T090000
END:STANDARD
END:VTIMEZONE
BEGIN:VEVENT
DTSTART;TZID=America/Los_Angeles:20240518T090000
DTEND;TZID=America/Los_Angeles:20240518T120000
DTSTAMP:20260421T044528
CREATED:20240220T235506Z
LAST-MODIFIED:20240220T235506Z
UID:23302-1716022800-1716033600@pleasantonband.org
SUMMARY:Pleasanton Farmers' Market
DESCRIPTION:
URL:https://pleasantonband.org/event/pleasanton-farmers-market-5/
LOCATION:Pleasanton Farmer’s Market\, 30 W. Angela St.\, Pleasanton\, CA\, 94566\, United States
CATEGORIES:public
END:VEVENT
BEGIN:VEVENT
DTSTART;TZID=America/Los_Angeles:20240527T103000
DTEND;TZID=America/Los_Angeles:20240527T123000
DTSTAMP:20260421T044528
CREATED:20240220T235704Z
LAST-MODIFIED:20240220T235814Z
UID:23304-1716805800-1716813000@pleasantonband.org
SUMMARY:Memorial Day Concert
DESCRIPTION:Concert is free but donations are gladly accepted.
URL:https://pleasantonband.org/event/memorial-day-concert-2/
LOCATION:Pleasanton Senior Center\, 5353 Sunol Boulevard\, Pleasanton\, CA\, 94566\, United States
CATEGORIES:public
END:VEVENT
END:VCALENDAR