BEGIN:VCALENDAR
VERSION:2.0
PRODID:-//Pleasanton Band - ECPv6.15.20//NONSGML v1.0//EN
CALSCALE:GREGORIAN
METHOD:PUBLISH
X-WR-CALNAME:Pleasanton Band
X-ORIGINAL-URL:https://pleasantonband.org
X-WR-CALDESC:Events for Pleasanton Band
REFRESH-INTERVAL;VALUE=DURATION:PT1H
X-Robots-Tag:noindex
X-PUBLISHED-TTL:PT1H
BEGIN:VTIMEZONE
TZID:America/Los_Angeles
BEGIN:DAYLIGHT
TZOFFSETFROM:-0800
TZOFFSETTO:-0700
TZNAME:PDT
DTSTART:20230312T100000
END:DAYLIGHT
BEGIN:STANDARD
TZOFFSETFROM:-0700
TZOFFSETTO:-0800
TZNAME:PST
DTSTART:20231105T090000
END:STANDARD
BEGIN:DAYLIGHT
TZOFFSETFROM:-0800
TZOFFSETTO:-0700
TZNAME:PDT
DTSTART:20240310T100000
END:DAYLIGHT
BEGIN:STANDARD
TZOFFSETFROM:-0700
TZOFFSETTO:-0800
TZNAME:PST
DTSTART:20241103T090000
END:STANDARD
BEGIN:DAYLIGHT
TZOFFSETFROM:-0800
TZOFFSETTO:-0700
TZNAME:PDT
DTSTART:20250309T100000
END:DAYLIGHT
BEGIN:STANDARD
TZOFFSETFROM:-0700
TZOFFSETTO:-0800
TZNAME:PST
DTSTART:20251102T090000
END:STANDARD
END:VTIMEZONE
BEGIN:VEVENT
DTSTART;TZID=America/Los_Angeles:20240704T120000
DTEND;TZID=America/Los_Angeles:20240704T133000
DTSTAMP:20260421T015435
CREATED:20230312T202826Z
LAST-MODIFIED:20240221T001039Z
UID:23230-1720094400-1720099800@pleasantonband.org
SUMMARY:Annual Pleasanton 4th of July Celebration
DESCRIPTION:Concert is free but donations are gladly accepted.
URL:https://pleasantonband.org/event/annual-pleasanton-4th-of-july-celebration/
LOCATION:Lions Wayside Park\, 4401 First Street\, Pleasanton\, CA\, 94566\, United States
CATEGORIES:public
END:VEVENT
END:VCALENDAR