BEGIN:VCALENDAR
VERSION:2.0
PRODID:-//Pleasanton Band - ECPv6.15.20//NONSGML v1.0//EN
CALSCALE:GREGORIAN
METHOD:PUBLISH
X-ORIGINAL-URL:https://pleasantonband.org
X-WR-CALDESC:Events for Pleasanton Band
REFRESH-INTERVAL;VALUE=DURATION:PT1H
X-Robots-Tag:noindex
X-PUBLISHED-TTL:PT1H
BEGIN:VTIMEZONE
TZID:America/Los_Angeles
BEGIN:DAYLIGHT
TZOFFSETFROM:-0800
TZOFFSETTO:-0700
TZNAME:PDT
DTSTART:20230312T100000
END:DAYLIGHT
BEGIN:STANDARD
TZOFFSETFROM:-0700
TZOFFSETTO:-0800
TZNAME:PST
DTSTART:20231105T090000
END:STANDARD
BEGIN:DAYLIGHT
TZOFFSETFROM:-0800
TZOFFSETTO:-0700
TZNAME:PDT
DTSTART:20240310T100000
END:DAYLIGHT
BEGIN:STANDARD
TZOFFSETFROM:-0700
TZOFFSETTO:-0800
TZNAME:PST
DTSTART:20241103T090000
END:STANDARD
BEGIN:DAYLIGHT
TZOFFSETFROM:-0800
TZOFFSETTO:-0700
TZNAME:PDT
DTSTART:20250309T100000
END:DAYLIGHT
BEGIN:STANDARD
TZOFFSETFROM:-0700
TZOFFSETTO:-0800
TZNAME:PST
DTSTART:20251102T090000
END:STANDARD
END:VTIMEZONE
BEGIN:VEVENT
DTSTART;TZID=America/Los_Angeles:20241103T123000
DTEND;TZID=America/Los_Angeles:20241103T150000
DTSTAMP:20260420T195355
CREATED:20240221T000647Z
LAST-MODIFIED:20240221T000647Z
UID:23316-1730637000-1730646000@pleasantonband.org
SUMMARY:Veterans' Day Parade and Concert
DESCRIPTION:Concert is free but donations are gladly accepted.
URL:https://pleasantonband.org/event/veterans-day-parade-and-concert/
LOCATION:Veterans Memorial Building\, 301 Main Street\, Pleasanton\, CA\, 94566\, United States
CATEGORIES:public
END:VEVENT
END:VCALENDAR